BEGIN:VCALENDAR
PRODID:http://www.kufer.de/kuferweb / DE
VERSION:2.0
METHOD:PUBLISH
CALSCALE:GREGORIAN
BEGIN:VTIMEZONE
TZID:Europe/Berlin
X-LIC-LOCATION:Europe/Berlin
BEGIN:DAYLIGHT
TZOFFSETFROM:+0100
TZOFFSETTO:+0200
TZNAME:CEST
DTSTART:19700329T020000
RRULE:FREQ=YEARLY;INTERVAL=1;BYDAY=-1SU;BYMONTH=3
END:DAYLIGHT
BEGIN:STANDARD
TZOFFSETFROM:+0200
TZOFFSETTO:+0100
TZNAME:CET
DTSTART:19701025T030000
RRULE:FREQ=YEARLY;INTERVAL=1;BYDAY=-1SU;BYMONTH=10
END:STANDARD
END:VTIMEZONE
BEGIN:VEVENT
DTSTAMP:20260422T000638
DTSTART;TZID=Europe/Berlin:20260909T151500
DTEND;TZID=Europe/Berlin:20260909T161500
UID:RP32031-20260909T151500@VHSVOGTLAND
SUMMARY:RP32031: Yogilates
LOCATION:Yaguna-Zentrum Klosterstr. 1
END:VEVENT
BEGIN:VEVENT
DTSTAMP:20260422T000638
DTSTART;TZID=Europe/Berlin:20260916T151500
DTEND;TZID=Europe/Berlin:20260916T161500
UID:RP32031-20260916T151500@VHSVOGTLAND
SUMMARY:RP32031: Yogilates
LOCATION:Yaguna-Zentrum Klosterstr. 1
END:VEVENT
BEGIN:VEVENT
DTSTAMP:20260422T000638
DTSTART;TZID=Europe/Berlin:20260923T151500
DTEND;TZID=Europe/Berlin:20260923T161500
UID:RP32031-20260923T151500@VHSVOGTLAND
SUMMARY:RP32031: Yogilates
LOCATION:Yaguna-Zentrum Klosterstr. 1
END:VEVENT
BEGIN:VEVENT
DTSTAMP:20260422T000638
DTSTART;TZID=Europe/Berlin:20260930T151500
DTEND;TZID=Europe/Berlin:20260930T161500
UID:RP32031-20260930T151500@VHSVOGTLAND
SUMMARY:RP32031: Yogilates
LOCATION:Yaguna-Zentrum Klosterstr. 1
END:VEVENT
BEGIN:VEVENT
DTSTAMP:20260422T000638
DTSTART;TZID=Europe/Berlin:20261007T151500
DTEND;TZID=Europe/Berlin:20261007T161500
UID:RP32031-20261007T151500@VHSVOGTLAND
SUMMARY:RP32031: Yogilates
LOCATION:Yaguna-Zentrum Klosterstr. 1
END:VEVENT
BEGIN:VEVENT
DTSTAMP:20260422T000638
DTSTART;TZID=Europe/Berlin:20261014T151500
DTEND;TZID=Europe/Berlin:20261014T161500
UID:RP32031-20261014T151500@VHSVOGTLAND
SUMMARY:RP32031: Yogilates
LOCATION:Yaguna-Zentrum Klosterstr. 1
END:VEVENT
BEGIN:VEVENT
DTSTAMP:20260422T000638
DTSTART;TZID=Europe/Berlin:20261021T151500
DTEND;TZID=Europe/Berlin:20261021T161500
UID:RP32031-20261021T151500@VHSVOGTLAND
SUMMARY:RP32031: Yogilates
LOCATION:Yaguna-Zentrum Klosterstr. 1
END:VEVENT
BEGIN:VEVENT
DTSTAMP:20260422T000638
DTSTART;TZID=Europe/Berlin:20261028T151500
DTEND;TZID=Europe/Berlin:20261028T161500
UID:RP32031-20261028T151500@VHSVOGTLAND
SUMMARY:RP32031: Yogilates
LOCATION:Yaguna-Zentrum Klosterstr. 1
END:VEVENT
BEGIN:VEVENT
DTSTAMP:20260422T000638
DTSTART;TZID=Europe/Berlin:20261104T151500
DTEND;TZID=Europe/Berlin:20261104T161500
UID:RP32031-20261104T151500@VHSVOGTLAND
SUMMARY:RP32031: Yogilates
LOCATION:Yaguna-Zentrum Klosterstr. 1
END:VEVENT
BEGIN:VEVENT
DTSTAMP:20260422T000638
DTSTART;TZID=Europe/Berlin:20261111T151500
DTEND;TZID=Europe/Berlin:20261111T161500
UID:RP32031-20261111T151500@VHSVOGTLAND
SUMMARY:RP32031: Yogilates
LOCATION:Yaguna-Zentrum Klosterstr. 1
END:VEVENT
BEGIN:VEVENT
DTSTAMP:20260422T000638
DTSTART;TZID=Europe/Berlin:20261125T151500
DTEND;TZID=Europe/Berlin:20261125T161500
UID:RP32031-20261125T151500@VHSVOGTLAND
SUMMARY:RP32031: Yogilates
LOCATION:Yaguna-Zentrum Klosterstr. 1
END:VEVENT
BEGIN:VEVENT
DTSTAMP:20260422T000638
DTSTART;TZID=Europe/Berlin:20261202T151500
DTEND;TZID=Europe/Berlin:20261202T161500
UID:RP32031-20261202T151500@VHSVOGTLAND
SUMMARY:RP32031: Yogilates
LOCATION:Yaguna-Zentrum Klosterstr. 1
END:VEVENT
END:VCALENDAR