BEGIN:VCALENDAR
PRODID:http://www.kufer.de/kuferweb / DE
VERSION:2.0
METHOD:PUBLISH
CALSCALE:GREGORIAN
BEGIN:VTIMEZONE
TZID:Europe/Berlin
X-LIC-LOCATION:Europe/Berlin
BEGIN:DAYLIGHT
TZOFFSETFROM:+0100
TZOFFSETTO:+0200
TZNAME:CEST
DTSTART:19700329T020000
RRULE:FREQ=YEARLY;INTERVAL=1;BYDAY=-1SU;BYMONTH=3
END:DAYLIGHT
BEGIN:STANDARD
TZOFFSETFROM:+0200
TZOFFSETTO:+0100
TZNAME:CET
DTSTART:19701025T030000
RRULE:FREQ=YEARLY;INTERVAL=1;BYDAY=-1SU;BYMONTH=10
END:STANDARD
END:VTIMEZONE
BEGIN:VEVENT
DTSTAMP:20260421T220549
DTSTART;TZID=Europe/Berlin:20261006T181500
DTEND;TZID=Europe/Berlin:20261006T191500
UID:RP32001-20261006T181500@VHSVOGTLAND
SUMMARY:RP32001: AROHA ®
LOCATION:Volkshochschule Vogtland Hauptsitz Plauen; 1.03
END:VEVENT
BEGIN:VEVENT
DTSTAMP:20260421T220549
DTSTART;TZID=Europe/Berlin:20261020T181500
DTEND;TZID=Europe/Berlin:20261020T191500
UID:RP32001-20261020T181500@VHSVOGTLAND
SUMMARY:RP32001: AROHA ®
LOCATION:Volkshochschule Vogtland Hauptsitz Plauen; 1.03
END:VEVENT
BEGIN:VEVENT
DTSTAMP:20260421T220549
DTSTART;TZID=Europe/Berlin:20261027T181500
DTEND;TZID=Europe/Berlin:20261027T191500
UID:RP32001-20261027T181500@VHSVOGTLAND
SUMMARY:RP32001: AROHA ®
LOCATION:Volkshochschule Vogtland Hauptsitz Plauen; 1.03
END:VEVENT
BEGIN:VEVENT
DTSTAMP:20260421T220549
DTSTART;TZID=Europe/Berlin:20261103T181500
DTEND;TZID=Europe/Berlin:20261103T191500
UID:RP32001-20261103T181500@VHSVOGTLAND
SUMMARY:RP32001: AROHA ®
LOCATION:Volkshochschule Vogtland Hauptsitz Plauen; 1.03
END:VEVENT
BEGIN:VEVENT
DTSTAMP:20260421T220549
DTSTART;TZID=Europe/Berlin:20261110T181500
DTEND;TZID=Europe/Berlin:20261110T191500
UID:RP32001-20261110T181500@VHSVOGTLAND
SUMMARY:RP32001: AROHA ®
LOCATION:Volkshochschule Vogtland Hauptsitz Plauen; 1.03
END:VEVENT
BEGIN:VEVENT
DTSTAMP:20260421T220549
DTSTART;TZID=Europe/Berlin:20261117T181500
DTEND;TZID=Europe/Berlin:20261117T191500
UID:RP32001-20261117T181500@VHSVOGTLAND
SUMMARY:RP32001: AROHA ®
LOCATION:Volkshochschule Vogtland Hauptsitz Plauen; 1.03
END:VEVENT
BEGIN:VEVENT
DTSTAMP:20260421T220549
DTSTART;TZID=Europe/Berlin:20261124T181500
DTEND;TZID=Europe/Berlin:20261124T191500
UID:RP32001-20261124T181500@VHSVOGTLAND
SUMMARY:RP32001: AROHA ®
LOCATION:Volkshochschule Vogtland Hauptsitz Plauen; 1.03
END:VEVENT
BEGIN:VEVENT
DTSTAMP:20260421T220549
DTSTART;TZID=Europe/Berlin:20261201T181500
DTEND;TZID=Europe/Berlin:20261201T191500
UID:RP32001-20261201T181500@VHSVOGTLAND
SUMMARY:RP32001: AROHA ®
LOCATION:Volkshochschule Vogtland Hauptsitz Plauen; 1.03
END:VEVENT
BEGIN:VEVENT
DTSTAMP:20260421T220549
DTSTART;TZID=Europe/Berlin:20261208T181500
DTEND;TZID=Europe/Berlin:20261208T191500
UID:RP32001-20261208T181500@VHSVOGTLAND
SUMMARY:RP32001: AROHA ®
LOCATION:Volkshochschule Vogtland Hauptsitz Plauen; 1.03
END:VEVENT
BEGIN:VEVENT
DTSTAMP:20260421T220549
DTSTART;TZID=Europe/Berlin:20270112T181500
DTEND;TZID=Europe/Berlin:20270112T191500
UID:RP32001-20270112T181500@VHSVOGTLAND
SUMMARY:RP32001: AROHA ®
LOCATION:Volkshochschule Vogtland Hauptsitz Plauen; 1.03
END:VEVENT
BEGIN:VEVENT
DTSTAMP:20260421T220549
DTSTART;TZID=Europe/Berlin:20270119T181500
DTEND;TZID=Europe/Berlin:20270119T191500
UID:RP32001-20270119T181500@VHSVOGTLAND
SUMMARY:RP32001: AROHA ®
LOCATION:Volkshochschule Vogtland Hauptsitz Plauen; 1.03
END:VEVENT
BEGIN:VEVENT
DTSTAMP:20260421T220549
DTSTART;TZID=Europe/Berlin:20270126T181500
DTEND;TZID=Europe/Berlin:20270126T191500
UID:RP32001-20270126T181500@VHSVOGTLAND
SUMMARY:RP32001: AROHA ®
LOCATION:Volkshochschule Vogtland Hauptsitz Plauen; 1.03
END:VEVENT
END:VCALENDAR