BEGIN:VCALENDAR
PRODID:http://www.kufer.de/kuferweb / DE
VERSION:2.0
METHOD:PUBLISH
CALSCALE:GREGORIAN
BEGIN:VTIMEZONE
TZID:Europe/Berlin
X-LIC-LOCATION:Europe/Berlin
BEGIN:DAYLIGHT
TZOFFSETFROM:+0100
TZOFFSETTO:+0200
TZNAME:CEST
DTSTART:19700329T020000
RRULE:FREQ=YEARLY;INTERVAL=1;BYDAY=-1SU;BYMONTH=3
END:DAYLIGHT
BEGIN:STANDARD
TZOFFSETFROM:+0200
TZOFFSETTO:+0100
TZNAME:CET
DTSTART:19701025T030000
RRULE:FREQ=YEARLY;INTERVAL=1;BYDAY=-1SU;BYMONTH=10
END:STANDARD
END:VTIMEZONE
BEGIN:VEVENT
DTSTAMP:20260421T204043
DTSTART;TZID=Europe/Berlin:20261006T170000
DTEND;TZID=Europe/Berlin:20261006T180000
UID:RP30101-20261006T170000@VHSVOGTLAND
SUMMARY:RP30101: KAHA ®
LOCATION:Volkshochschule Vogtland Hauptsitz Plauen; 1.03
END:VEVENT
BEGIN:VEVENT
DTSTAMP:20260421T204043
DTSTART;TZID=Europe/Berlin:20261020T170000
DTEND;TZID=Europe/Berlin:20261020T180000
UID:RP30101-20261020T170000@VHSVOGTLAND
SUMMARY:RP30101: KAHA ®
LOCATION:Volkshochschule Vogtland Hauptsitz Plauen; 1.03
END:VEVENT
BEGIN:VEVENT
DTSTAMP:20260421T204043
DTSTART;TZID=Europe/Berlin:20261027T170000
DTEND;TZID=Europe/Berlin:20261027T180000
UID:RP30101-20261027T170000@VHSVOGTLAND
SUMMARY:RP30101: KAHA ®
LOCATION:Volkshochschule Vogtland Hauptsitz Plauen; 1.03
END:VEVENT
BEGIN:VEVENT
DTSTAMP:20260421T204043
DTSTART;TZID=Europe/Berlin:20261103T170000
DTEND;TZID=Europe/Berlin:20261103T180000
UID:RP30101-20261103T170000@VHSVOGTLAND
SUMMARY:RP30101: KAHA ®
LOCATION:Volkshochschule Vogtland Hauptsitz Plauen; 1.03
END:VEVENT
BEGIN:VEVENT
DTSTAMP:20260421T204043
DTSTART;TZID=Europe/Berlin:20261110T170000
DTEND;TZID=Europe/Berlin:20261110T180000
UID:RP30101-20261110T170000@VHSVOGTLAND
SUMMARY:RP30101: KAHA ®
LOCATION:Volkshochschule Vogtland Hauptsitz Plauen; 1.03
END:VEVENT
BEGIN:VEVENT
DTSTAMP:20260421T204043
DTSTART;TZID=Europe/Berlin:20261117T170000
DTEND;TZID=Europe/Berlin:20261117T180000
UID:RP30101-20261117T170000@VHSVOGTLAND
SUMMARY:RP30101: KAHA ®
LOCATION:Volkshochschule Vogtland Hauptsitz Plauen; 1.03
END:VEVENT
BEGIN:VEVENT
DTSTAMP:20260421T204043
DTSTART;TZID=Europe/Berlin:20261124T170000
DTEND;TZID=Europe/Berlin:20261124T180000
UID:RP30101-20261124T170000@VHSVOGTLAND
SUMMARY:RP30101: KAHA ®
LOCATION:Volkshochschule Vogtland Hauptsitz Plauen; 1.03
END:VEVENT
BEGIN:VEVENT
DTSTAMP:20260421T204043
DTSTART;TZID=Europe/Berlin:20261201T170000
DTEND;TZID=Europe/Berlin:20261201T180000
UID:RP30101-20261201T170000@VHSVOGTLAND
SUMMARY:RP30101: KAHA ®
LOCATION:Volkshochschule Vogtland Hauptsitz Plauen; 1.03
END:VEVENT
BEGIN:VEVENT
DTSTAMP:20260421T204043
DTSTART;TZID=Europe/Berlin:20261208T170000
DTEND;TZID=Europe/Berlin:20261208T180000
UID:RP30101-20261208T170000@VHSVOGTLAND
SUMMARY:RP30101: KAHA ®
LOCATION:Volkshochschule Vogtland Hauptsitz Plauen; 1.03
END:VEVENT
BEGIN:VEVENT
DTSTAMP:20260421T204043
DTSTART;TZID=Europe/Berlin:20270112T170000
DTEND;TZID=Europe/Berlin:20270112T180000
UID:RP30101-20270112T170000@VHSVOGTLAND
SUMMARY:RP30101: KAHA ®
LOCATION:Volkshochschule Vogtland Hauptsitz Plauen; 1.03
END:VEVENT
BEGIN:VEVENT
DTSTAMP:20260421T204043
DTSTART;TZID=Europe/Berlin:20270119T170000
DTEND;TZID=Europe/Berlin:20270119T180000
UID:RP30101-20270119T170000@VHSVOGTLAND
SUMMARY:RP30101: KAHA ®
LOCATION:Volkshochschule Vogtland Hauptsitz Plauen; 1.03
END:VEVENT
BEGIN:VEVENT
DTSTAMP:20260421T204043
DTSTART;TZID=Europe/Berlin:20270126T170000
DTEND;TZID=Europe/Berlin:20270126T180000
UID:RP30101-20270126T170000@VHSVOGTLAND
SUMMARY:RP30101: KAHA ®
LOCATION:Volkshochschule Vogtland Hauptsitz Plauen; 1.03
END:VEVENT
END:VCALENDAR