BEGIN:VCALENDAR
PRODID:http://www.kufer.de/kuferweb / DE
VERSION:2.0
METHOD:PUBLISH
CALSCALE:GREGORIAN
BEGIN:VTIMEZONE
TZID:Europe/Berlin
X-LIC-LOCATION:Europe/Berlin
BEGIN:DAYLIGHT
TZOFFSETFROM:+0100
TZOFFSETTO:+0200
TZNAME:CEST
DTSTART:19700329T020000
RRULE:FREQ=YEARLY;INTERVAL=1;BYDAY=-1SU;BYMONTH=3
END:DAYLIGHT
BEGIN:STANDARD
TZOFFSETFROM:+0200
TZOFFSETTO:+0100
TZNAME:CET
DTSTART:19701025T030000
RRULE:FREQ=YEARLY;INTERVAL=1;BYDAY=-1SU;BYMONTH=10
END:STANDARD
END:VTIMEZONE
BEGIN:VEVENT
DTSTAMP:20260421T220548
DTSTART;TZID=Europe/Berlin:20261103T170000
DTEND;TZID=Europe/Berlin:20261103T191500
UID:RP2076-20261103T170000@VHSVOGTLAND
SUMMARY:RP2076: Malen und Zeichen
LOCATION:Volkshochschule Vogtland Hauptsitz Plauen; 3.06
END:VEVENT
BEGIN:VEVENT
DTSTAMP:20260421T220548
DTSTART;TZID=Europe/Berlin:20261110T170000
DTEND;TZID=Europe/Berlin:20261110T191500
UID:RP2076-20261110T170000@VHSVOGTLAND
SUMMARY:RP2076: Malen und Zeichen
LOCATION:Volkshochschule Vogtland Hauptsitz Plauen; 3.06
END:VEVENT
BEGIN:VEVENT
DTSTAMP:20260421T220548
DTSTART;TZID=Europe/Berlin:20261117T170000
DTEND;TZID=Europe/Berlin:20261117T191500
UID:RP2076-20261117T170000@VHSVOGTLAND
SUMMARY:RP2076: Malen und Zeichen
LOCATION:Volkshochschule Vogtland Hauptsitz Plauen; 3.06
END:VEVENT
BEGIN:VEVENT
DTSTAMP:20260421T220548
DTSTART;TZID=Europe/Berlin:20261124T170000
DTEND;TZID=Europe/Berlin:20261124T191500
UID:RP2076-20261124T170000@VHSVOGTLAND
SUMMARY:RP2076: Malen und Zeichen
LOCATION:Volkshochschule Vogtland Hauptsitz Plauen; 3.06
END:VEVENT
BEGIN:VEVENT
DTSTAMP:20260421T220548
DTSTART;TZID=Europe/Berlin:20261201T170000
DTEND;TZID=Europe/Berlin:20261201T191500
UID:RP2076-20261201T170000@VHSVOGTLAND
SUMMARY:RP2076: Malen und Zeichen
LOCATION:Volkshochschule Vogtland Hauptsitz Plauen; 3.06
END:VEVENT
BEGIN:VEVENT
DTSTAMP:20260421T220548
DTSTART;TZID=Europe/Berlin:20261208T170000
DTEND;TZID=Europe/Berlin:20261208T191500
UID:RP2076-20261208T170000@VHSVOGTLAND
SUMMARY:RP2076: Malen und Zeichen
LOCATION:Volkshochschule Vogtland Hauptsitz Plauen; 3.06
END:VEVENT
END:VCALENDAR