BEGIN:VCALENDAR
PRODID:http://www.kufer.de/kuferweb / DE
VERSION:2.0
METHOD:PUBLISH
CALSCALE:GREGORIAN
BEGIN:VTIMEZONE
TZID:Europe/Berlin
X-LIC-LOCATION:Europe/Berlin
BEGIN:DAYLIGHT
TZOFFSETFROM:+0100
TZOFFSETTO:+0200
TZNAME:CEST
DTSTART:19700329T020000
RRULE:FREQ=YEARLY;INTERVAL=1;BYDAY=-1SU;BYMONTH=3
END:DAYLIGHT
BEGIN:STANDARD
TZOFFSETFROM:+0200
TZOFFSETTO:+0100
TZNAME:CET
DTSTART:19701025T030000
RRULE:FREQ=YEARLY;INTERVAL=1;BYDAY=-1SU;BYMONTH=10
END:STANDARD
END:VTIMEZONE
BEGIN:VEVENT
DTSTAMP:20260422T072928
DTSTART;TZID=Europe/Berlin:20261103T140000
DTEND;TZID=Europe/Berlin:20261103T161500
UID:RP2075-20261103T140000@VHSVOGTLAND
SUMMARY:RP2075: Malen und Zeichen mit Aquarell
LOCATION:Volkshochschule Vogtland Hauptsitz Plauen; 3.06
END:VEVENT
BEGIN:VEVENT
DTSTAMP:20260422T072928
DTSTART;TZID=Europe/Berlin:20261110T140000
DTEND;TZID=Europe/Berlin:20261110T161500
UID:RP2075-20261110T140000@VHSVOGTLAND
SUMMARY:RP2075: Malen und Zeichen mit Aquarell
LOCATION:Volkshochschule Vogtland Hauptsitz Plauen; 3.06
END:VEVENT
BEGIN:VEVENT
DTSTAMP:20260422T072928
DTSTART;TZID=Europe/Berlin:20261117T140000
DTEND;TZID=Europe/Berlin:20261117T161500
UID:RP2075-20261117T140000@VHSVOGTLAND
SUMMARY:RP2075: Malen und Zeichen mit Aquarell
LOCATION:Volkshochschule Vogtland Hauptsitz Plauen; 3.06
END:VEVENT
BEGIN:VEVENT
DTSTAMP:20260422T072928
DTSTART;TZID=Europe/Berlin:20261124T140000
DTEND;TZID=Europe/Berlin:20261124T161500
UID:RP2075-20261124T140000@VHSVOGTLAND
SUMMARY:RP2075: Malen und Zeichen mit Aquarell
LOCATION:Volkshochschule Vogtland Hauptsitz Plauen; 3.06
END:VEVENT
BEGIN:VEVENT
DTSTAMP:20260422T072928
DTSTART;TZID=Europe/Berlin:20261201T140000
DTEND;TZID=Europe/Berlin:20261201T161500
UID:RP2075-20261201T140000@VHSVOGTLAND
SUMMARY:RP2075: Malen und Zeichen mit Aquarell
LOCATION:Volkshochschule Vogtland Hauptsitz Plauen; 3.06
END:VEVENT
BEGIN:VEVENT
DTSTAMP:20260422T072928
DTSTART;TZID=Europe/Berlin:20261208T140000
DTEND;TZID=Europe/Berlin:20261208T161500
UID:RP2075-20261208T140000@VHSVOGTLAND
SUMMARY:RP2075: Malen und Zeichen mit Aquarell
LOCATION:Volkshochschule Vogtland Hauptsitz Plauen; 3.06
END:VEVENT
END:VCALENDAR